BEGIN:VCALENDAR
VERSION:2.0
PRODID:-//Library Market//iCal Export//EN
BEGIN:VEVENT
SUMMARY:Chocolate Olympics (NWL)
UID:101331
DTSTAMP:20260422T102800Z
DTSTART:20260804T200000Z
DTEND:20260804T204500Z
LOCATION:Noah Webster Library, 20 South Main Street, West Hartford, CT 061
 07, United States
ROOM: NWL Story Room
DESCRIPTION:Grades 3-6: Join us for our delicious version of the Olympics
 ... the Chocolate Olympics! Compete in challenges that are fun and chock f
 ull of chocolate.This program is for the child alone. Caregivers must rema
 in in the library while their child is attending the program.Registration 
 required.
URL:https://westhartford.librarymarket.com/index.php/event/chocolate-olymp
 ics-nwl-101331
END:VEVENT
END:VCALENDAR
